BEGIN:VCALENDAR
BEGIN:VEVENT
BEGIN:VTIMEZONE
TZOFFSETFROM:-0500
TZID:America/New_York
TZ:UTC-05
X-MICROSOFT-CDO-TZID:10
DTSTART:20200802T000000
DTEND:20200805T000000
TZOFFSETFROM:-0400
TZOFFSETTO:-0500
END:VTIMEZONE
DTSTART;TZID=America/New_York:20200802T000000
DTEND;TZID=America/New_York:20200805T000000
LOCATION:Tallahassee, FL.
SUMMARY:CANCELLED - Conference of Court Public Information Officers (CCPIO) Annual Conference
DESCRIPTION:
X-ALT-DESC;FMTTYPE=text/html:
END:VEVENT
END:VCALENDAR
